BEGIN:VCALENDAR
VERSION:2.0
PRODID:-//Grace Community Church Of God - ECPv6.15.20//NONSGML v1.0//EN
CALSCALE:GREGORIAN
METHOD:PUBLISH
X-ORIGINAL-URL:https://gracelieshere.com
X-WR-CALDESC:Events for Grace Community Church Of God
REFRESH-INTERVAL;VALUE=DURATION:PT1H
X-Robots-Tag:noindex
X-PUBLISHED-TTL:PT1H
BEGIN:VTIMEZONE
TZID:America/New_York
BEGIN:DAYLIGHT
TZOFFSETFROM:-0500
TZOFFSETTO:-0400
TZNAME:EDT
DTSTART:20250309T070000
END:DAYLIGHT
BEGIN:STANDARD
TZOFFSETFROM:-0400
TZOFFSETTO:-0500
TZNAME:EST
DTSTART:20251102T060000
END:STANDARD
BEGIN:DAYLIGHT
TZOFFSETFROM:-0500
TZOFFSETTO:-0400
TZNAME:EDT
DTSTART:20260308T070000
END:DAYLIGHT
BEGIN:STANDARD
TZOFFSETFROM:-0400
TZOFFSETTO:-0500
TZNAME:EST
DTSTART:20261101T060000
END:STANDARD
BEGIN:DAYLIGHT
TZOFFSETFROM:-0500
TZOFFSETTO:-0400
TZNAME:EDT
DTSTART:20270314T070000
END:DAYLIGHT
BEGIN:STANDARD
TZOFFSETFROM:-0400
TZOFFSETTO:-0500
TZNAME:EST
DTSTART:20271107T060000
END:STANDARD
END:VTIMEZONE
BEGIN:VEVENT
DTSTART;TZID=America/New_York:20260417T183000
DTEND;TZID=America/New_York:20260417T193000
DTSTAMP:20260421T074332
CREATED:20260411T004352Z
LAST-MODIFIED:20260411T004352Z
UID:1128-1776450600-1776454200@gracelieshere.com
SUMMARY:Senior Adult Night
DESCRIPTION:
URL:https://gracelieshere.com/event/senior-adult-night/
LOCATION:Grace Community Church\, 118 West Jefferson\, Hazlehurst\, GA\, 31539\, United States
ATTACH;FMTTYPE=image/png:https://gracelieshere.com/wp-content/uploads/2026/04/Senior-Night-Presentation-3.png
END:VEVENT
BEGIN:VEVENT
DTSTART;TZID=America/New_York:20260405T103000
DTEND;TZID=America/New_York:20260405T120000
DTSTAMP:20260421T074332
CREATED:20260301T041651Z
LAST-MODIFIED:20260301T041651Z
UID:808-1775385000-1775390400@gracelieshere.com
SUMMARY:Easter Encounter
DESCRIPTION:
URL:https://gracelieshere.com/event/easter-encounter/
LOCATION:Grace Community Church\, 118 West Jefferson\, Hazlehurst\, GA\, 31539\, United States
ATTACH;FMTTYPE=image/png:https://gracelieshere.com/wp-content/uploads/2026/02/Easter-Presentation.png
END:VEVENT
BEGIN:VEVENT
DTSTART;TZID=America/New_York:20260405T083000
DTEND;TZID=America/New_York:20260405T093000
DTSTAMP:20260421T074332
CREATED:20260301T041526Z
LAST-MODIFIED:20260301T041526Z
UID:806-1775377800-1775381400@gracelieshere.com
SUMMARY:Resurrection Breakfast
DESCRIPTION:
URL:https://gracelieshere.com/event/resurrection-breakfast/
LOCATION:Grace Community Church\, 118 West Jefferson\, Hazlehurst\, GA\, 31539\, United States
ATTACH;FMTTYPE=image/png:https://gracelieshere.com/wp-content/uploads/2026/02/Resurrection-Breakfast-Presentation.png
END:VEVENT
BEGIN:VEVENT
DTSTART;TZID=America/New_York:20260403T183000
DTEND;TZID=America/New_York:20260403T203000
DTSTAMP:20260421T074332
CREATED:20260301T041330Z
LAST-MODIFIED:20260301T041330Z
UID:804-1775241000-1775248200@gracelieshere.com
SUMMARY:Good Friday
DESCRIPTION:
URL:https://gracelieshere.com/event/good-friday/
LOCATION:Grace Community Church\, 118 West Jefferson\, Hazlehurst\, GA\, 31539\, United States
ATTACH;FMTTYPE=image/png:https://gracelieshere.com/wp-content/uploads/2026/02/Good-Friday-Presentation.png
END:VEVENT
BEGIN:VEVENT
DTSTART;TZID=America/New_York:20260329T120000
DTEND;TZID=America/New_York:20260329T140000
DTSTAMP:20260421T074332
CREATED:20260301T041151Z
LAST-MODIFIED:20260301T042019Z
UID:802-1774785600-1774792800@gracelieshere.com
SUMMARY:Palm Sunday Friends & Family Day
DESCRIPTION:
URL:https://gracelieshere.com/event/palm-sunday-friends-family-day/
LOCATION:Grace Community Church\, 118 West Jefferson\, Hazlehurst\, GA\, 31539\, United States
ATTACH;FMTTYPE=image/png:https://gracelieshere.com/wp-content/uploads/2026/02/Palm-Sunday-Egg-Hunt-Presentation.png
END:VEVENT
BEGIN:VEVENT
DTSTART;TZID=America/New_York:20260329T110000
DTEND;TZID=America/New_York:20260329T120000
DTSTAMP:20260421T074332
CREATED:20260301T041008Z
LAST-MODIFIED:20260301T042119Z
UID:800-1774782000-1774785600@gracelieshere.com
SUMMARY:Palm Sunday Celebration Service
DESCRIPTION:
URL:https://gracelieshere.com/event/palm-sunday-celebration-service/
LOCATION:Grace Community Church\, 118 West Jefferson\, Hazlehurst\, GA\, 31539\, United States
ATTACH;FMTTYPE=image/png:https://gracelieshere.com/wp-content/uploads/2026/02/Palm-Sunday-Presentation.png
END:VEVENT
END:VCALENDAR